Package: PureCN Version: 2.13.1 Command: /home/biocbuild/bbs-3.21-bioc/R/bin/R CMD check --install=check:PureCN.install-out.txt --library=/home/biocbuild/bbs-3.21-bioc/R/site-library --timings PureCN_2.13.1.tar.gz StartedAt: 2025-02-05 01:40:14 -0500 (Wed, 05 Feb 2025) EndedAt: 2025-02-05 01:58:44 -0500 (Wed, 05 Feb 2025) EllapsedTime: 1109.9 seconds RetCode: 0 Status: OK CheckDir: PureCN.Rcheck Warnings: 0