Package: PureCN Version: 2.13.1 Command: rm -rf PureCN.buildbin-libdir && mkdir PureCN.buildbin-libdir && E:\biocbuild\bbs-3.21-bioc\R\bin\R.exe CMD INSTALL --build --library=PureCN.buildbin-libdir PureCN_2.13.1.tar.gz StartedAt: 2025-02-05 08:37:56 -0500 (Wed, 05 Feb 2025) EndedAt: 2025-02-05 08:39:25 -0500 (Wed, 05 Feb 2025) EllapsedTime: 89.2 seconds RetCode: 0 Status: OK PackageFile: PureCN_2.13.1.zip PackageFileSize: 6.184 MiB