Package: PureCN Version: 2.13.1 Command: chmod a+r PureCN -R && E:\biocbuild\bbs-3.21-bioc\R\bin\R.exe CMD build --keep-empty-dirs --no-resave-data PureCN StartedAt: 2025-02-04 20:56:57 -0500 (Tue, 04 Feb 2025) EndedAt: 2025-02-04 21:02:34 -0500 (Tue, 04 Feb 2025) EllapsedTime: 336.8 seconds RetCode: 0 Status: OK PackageFile: PureCN_2.13.1.tar.gz PackageFileSize: 5.721 MiB