Package: PureCN Version: 2.13.1 Command: E:\biocbuild\bbs-3.21-bioc\R\bin\R.exe CMD check --no-multiarch --install=check:PureCN.install-out.txt --library=E:\biocbuild\bbs-3.21-bioc\R\library --no-vignettes --timings PureCN_2.13.1.tar.gz StartedAt: 2025-02-05 04:45:52 -0500 (Wed, 05 Feb 2025) EndedAt: 2025-02-05 05:06:53 -0500 (Wed, 05 Feb 2025) EllapsedTime: 1261.1 seconds RetCode: 0 Status: OK CheckDir: PureCN.Rcheck Warnings: 0