Package: PureCN Version: 2.13.1 Command: E:\biocbuild\bbs-3.21-bioc\R\bin\R.exe CMD INSTALL PureCN StartedAt: 2025-02-04 16:11:14 -0500 (Tue, 04 Feb 2025) EndedAt: 2025-02-04 16:12:33 -0500 (Tue, 04 Feb 2025) EllapsedTime: 78.3 seconds RetCode: 0 Status: OK