Package: Pviz Version: 1.41.0 Command: rm -rf Pviz.buildbin-libdir && mkdir Pviz.buildbin-libdir && /Users/biocbuild/BBS/utils/build-universal.sh Pviz_1.41.0.tar.gz /Library/Frameworks/R.framework/Resources/bin/R Pviz.buildbin-libdir StartedAt: 2025-02-05 22:30:57 -0500 (Wed, 05 Feb 2025) EndedAt: 2025-02-05 22:31:34 -0500 (Wed, 05 Feb 2025) EllapsedTime: 36.8 seconds RetCode: 0 Status: OK PackageFile: Pviz_1.41.0.tgz PackageFileSize: 671.7 KiB