Package: Pviz Version: 1.41.0 Command: /Library/Frameworks/R.framework/Resources/bin/R CMD build --keep-empty-dirs --no-resave-data Pviz StartedAt: 2025-02-05 17:19:35 -0500 (Wed, 05 Feb 2025) EndedAt: 2025-02-05 17:20:24 -0500 (Wed, 05 Feb 2025) EllapsedTime: 48.6 seconds RetCode: 0 Status: OK PackageFile: Pviz_1.41.0.tar.gz PackageFileSize: 203 KiB