Package: Pviz Version: 1.41.0 Command: /Library/Frameworks/R.framework/Resources/bin/R CMD check --install=check:Pviz.install-out.txt --library=/Library/Frameworks/R.framework/Resources/library --no-vignettes --timings Pviz_1.41.0.tar.gz StartedAt: 2025-02-05 20:53:25 -0500 (Wed, 05 Feb 2025) EndedAt: 2025-02-05 20:55:31 -0500 (Wed, 05 Feb 2025) EllapsedTime: 126.5 seconds RetCode: 0 Status: WARNINGS CheckDir: Pviz.Rcheck Warnings: 1