Package: Pviz Version: 1.41.0 Command: /Library/Frameworks/R.framework/Resources/bin/R CMD INSTALL Pviz StartedAt: 2025-02-05 15:17:43 -0500 (Wed, 05 Feb 2025) EndedAt: 2025-02-05 15:18:18 -0500 (Wed, 05 Feb 2025) EllapsedTime: 34.2 seconds RetCode: 0 Status: OK