Package: Pviz Version: 1.41.0 Command: /home/biocbuild/R/R/bin/R CMD build --keep-empty-dirs --no-resave-data Pviz StartedAt: 2025-01-29 01:24:42 -0000 (Wed, 29 Jan 2025) EndedAt: 2025-01-29 01:27:16 -0000 (Wed, 29 Jan 2025) EllapsedTime: 154.1 seconds RetCode: 0 Status: OK PackageFile: Pviz_1.41.0.tar.gz PackageFileSize: 280.6 KiB