Package: Pviz Version: 1.41.0 Command: rm -rf Pviz.buildbin-libdir && mkdir Pviz.buildbin-libdir && /Users/biocbuild/BBS/utils/build-universal.sh Pviz_1.41.0.tar.gz /Library/Frameworks/R.framework/Resources/bin/R Pviz.buildbin-libdir StartedAt: 2025-02-06 00:46:03 -0500 (Thu, 06 Feb 2025) EndedAt: 2025-02-06 00:47:48 -0500 (Thu, 06 Feb 2025) EllapsedTime: 105.3 seconds RetCode: 0 Status: OK PackageFile: Pviz_1.41.0.tgz PackageFileSize: 671.1 KiB