Package: Pviz Version: 1.41.0 Command: /Library/Frameworks/R.framework/Resources/bin/R CMD build --keep-empty-dirs --no-resave-data Pviz StartedAt: 2025-02-04 17:54:58 -0500 (Tue, 04 Feb 2025) EndedAt: 2025-02-04 17:56:59 -0500 (Tue, 04 Feb 2025) EllapsedTime: 121.1 seconds RetCode: 0 Status: OK PackageFile: Pviz_1.41.0.tar.gz PackageFileSize: 203.2 KiB