Package: Pviz Version: 1.41.0 Command: /Library/Frameworks/R.framework/Resources/bin/R CMD check --install=check:Pviz.install-out.txt --library=/Library/Frameworks/R.framework/Resources/library --no-vignettes --timings Pviz_1.41.0.tar.gz StartedAt: 2025-02-05 22:33:31 -0500 (Wed, 05 Feb 2025) EndedAt: 2025-02-05 22:39:22 -0500 (Wed, 05 Feb 2025) EllapsedTime: 350.9 seconds RetCode: 0 Status: WARNINGS CheckDir: Pviz.Rcheck Warnings: 1