Package: Pviz Version: 1.41.0 Command: /Library/Frameworks/R.framework/Resources/bin/R CMD INSTALL Pviz StartedAt: 2025-02-04 15:28:19 -0500 (Tue, 04 Feb 2025) EndedAt: 2025-02-04 15:30:01 -0500 (Tue, 04 Feb 2025) EllapsedTime: 102.0 seconds RetCode: 0 Status: OK