Package: Pviz Version: 1.41.0 Command: /home/biocbuild/bbs-3.21-bioc/R/bin/R CMD build --keep-empty-dirs --no-resave-data Pviz StartedAt: 2025-02-05 18:45:17 -0500 (Wed, 05 Feb 2025) EndedAt: 2025-02-05 18:47:11 -0500 (Wed, 05 Feb 2025) EllapsedTime: 114.1 seconds RetCode: 0 Status: OK PackageFile: Pviz_1.41.0.tar.gz PackageFileSize: 203 KiB