Package: Pviz Version: 1.41.0 Command: /home/biocbuild/bbs-3.21-bioc/R/bin/R CMD INSTALL Pviz StartedAt: 2025-02-05 15:46:00 -0500 (Wed, 05 Feb 2025) EndedAt: 2025-02-05 15:47:22 -0500 (Wed, 05 Feb 2025) EllapsedTime: 82.6 seconds RetCode: 0 Status: OK