Package: Pviz Version: 1.41.0 Command: rm -rf Pviz.buildbin-libdir && mkdir Pviz.buildbin-libdir && E:\biocbuild\bbs-3.21-bioc\R\bin\R.exe CMD INSTALL --build --library=Pviz.buildbin-libdir Pviz_1.41.0.tar.gz StartedAt: 2025-02-06 08:44:39 -0500 (Thu, 06 Feb 2025) EndedAt: 2025-02-06 08:46:14 -0500 (Thu, 06 Feb 2025) EllapsedTime: 94.4 seconds RetCode: 0 Status: OK PackageFile: Pviz_1.41.0.zip PackageFileSize: 675.9 KiB