Package: Pviz Version: 1.41.0 Command: chmod a+r Pviz -R && E:\biocbuild\bbs-3.21-bioc\R\bin\R.exe CMD build --keep-empty-dirs --no-resave-data Pviz StartedAt: 2025-02-05 21:00:48 -0500 (Wed, 05 Feb 2025) EndedAt: 2025-02-05 21:03:07 -0500 (Wed, 05 Feb 2025) EllapsedTime: 138.8 seconds RetCode: 0 Status: OK PackageFile: Pviz_1.41.0.tar.gz PackageFileSize: 198.8 KiB