Package: Pviz Version: 1.41.0 Command: E:\biocbuild\bbs-3.21-bioc\R\bin\R.exe CMD INSTALL Pviz StartedAt: 2025-02-05 16:19:31 -0500 (Wed, 05 Feb 2025) EndedAt: 2025-02-05 16:20:58 -0500 (Wed, 05 Feb 2025) EllapsedTime: 87.1 seconds RetCode: 0 Status: OK