Package: QDNAseq Version: 1.43.0 Command: /Library/Frameworks/R.framework/Resources/bin/R CMD build --keep-empty-dirs --no-resave-data QDNAseq StartedAt: 2025-02-04 17:18:57 -0500 (Tue, 04 Feb 2025) EndedAt: 2025-02-04 17:19:19 -0500 (Tue, 04 Feb 2025) EllapsedTime: 22.3 seconds RetCode: 0 Status: OK PackageFile: QDNAseq_1.43.0.tar.gz PackageFileSize: 993.6 KiB