Package: QDNAseq Version: 1.43.0 Command: /Library/Frameworks/R.framework/Resources/bin/R CMD check --install=check:QDNAseq.install-out.txt --library=/Library/Frameworks/R.framework/Resources/library --no-vignettes --timings QDNAseq_1.43.0.tar.gz StartedAt: 2025-02-04 20:49:38 -0500 (Tue, 04 Feb 2025) EndedAt: 2025-02-04 20:52:13 -0500 (Tue, 04 Feb 2025) EllapsedTime: 154.9 seconds RetCode: 0 Status: OK CheckDir: QDNAseq.Rcheck Warnings: 0