Package: QDNAseq Version: 1.43.0 Command: /home/biocbuild/R/R/bin/R CMD build --keep-empty-dirs --no-resave-data QDNAseq StartedAt: 2025-01-29 01:26:00 -0000 (Wed, 29 Jan 2025) EndedAt: 2025-01-29 01:27:02 -0000 (Wed, 29 Jan 2025) EllapsedTime: 62.1 seconds RetCode: 0 Status: OK PackageFile: QDNAseq_1.43.0.tar.gz PackageFileSize: 1.031 MiB