Package: QDNAseq Version: 1.43.0 Command: rm -rf QDNAseq.buildbin-libdir && mkdir QDNAseq.buildbin-libdir && /Users/biocbuild/BBS/utils/build-universal.sh QDNAseq_1.43.0.tar.gz /Library/Frameworks/R.framework/Resources/bin/R QDNAseq.buildbin-libdir StartedAt: 2025-02-05 00:55:44 -0500 (Wed, 05 Feb 2025) EndedAt: 2025-02-05 00:56:13 -0500 (Wed, 05 Feb 2025) EllapsedTime: 28.9 seconds RetCode: 0 Status: OK PackageFile: QDNAseq_1.43.0.tgz PackageFileSize: 1.533 MiB