Package: QDNAseq Version: 1.43.0 Command: /Library/Frameworks/R.framework/Resources/bin/R CMD check --install=check:QDNAseq.install-out.txt --library=/Library/Frameworks/R.framework/Resources/library --no-vignettes --timings QDNAseq_1.43.0.tar.gz StartedAt: 2025-02-09 22:52:41 -0500 (Sun, 09 Feb 2025) EndedAt: 2025-02-09 22:59:32 -0500 (Sun, 09 Feb 2025) EllapsedTime: 410.7 seconds RetCode: 0 Status: OK CheckDir: QDNAseq.Rcheck Warnings: 0