Package: QDNAseq Version: 1.43.0 Command: /home/biocbuild/bbs-3.21-bioc/R/bin/R CMD build --keep-empty-dirs --no-resave-data QDNAseq StartedAt: 2025-02-04 18:43:36 -0500 (Tue, 04 Feb 2025) EndedAt: 2025-02-04 18:44:23 -0500 (Tue, 04 Feb 2025) EllapsedTime: 47.1 seconds RetCode: 0 Status: OK PackageFile: QDNAseq_1.43.0.tar.gz PackageFileSize: 1.069 MiB