Package: QDNAseq Version: 1.43.0 Command: /home/biocbuild/bbs-3.21-bioc/R/bin/R CMD INSTALL QDNAseq StartedAt: 2025-02-04 15:14:27 -0500 (Tue, 04 Feb 2025) EndedAt: 2025-02-04 15:14:45 -0500 (Tue, 04 Feb 2025) EllapsedTime: 17.7 seconds RetCode: 0 Status: OK