Package: QDNAseq Version: 1.43.0 Command: rm -rf QDNAseq.buildbin-libdir && mkdir QDNAseq.buildbin-libdir && E:\biocbuild\bbs-3.21-bioc\R\bin\R.exe CMD INSTALL --build --library=QDNAseq.buildbin-libdir QDNAseq_1.43.0.tar.gz StartedAt: 2025-02-10 08:26:25 -0500 (Mon, 10 Feb 2025) EndedAt: 2025-02-10 08:27:20 -0500 (Mon, 10 Feb 2025) EllapsedTime: 54.9 seconds RetCode: 0 Status: OK PackageFile: QDNAseq_1.43.0.zip PackageFileSize: 1.393 MiB