Package: QDNAseq Version: 1.43.0 Command: chmod a+r QDNAseq -R && E:\biocbuild\bbs-3.21-bioc\R\bin\R.exe CMD build --keep-empty-dirs --no-resave-data QDNAseq StartedAt: 2025-02-04 20:57:54 -0500 (Tue, 04 Feb 2025) EndedAt: 2025-02-04 21:04:44 -0500 (Tue, 04 Feb 2025) EllapsedTime: 410.3 seconds RetCode: 0 Status: OK PackageFile: QDNAseq_1.43.0.tar.gz PackageFileSize: 849.5 KiB