Package: QDNAseq Version: 1.43.0 Command: E:\biocbuild\bbs-3.21-bioc\R\bin\R.exe CMD check --no-multiarch --install=check:QDNAseq.install-out.txt --library=E:\biocbuild\bbs-3.21-bioc\R\library --no-vignettes --timings QDNAseq_1.43.0.tar.gz StartedAt: 2025-02-10 04:21:33 -0500 (Mon, 10 Feb 2025) EndedAt: 2025-02-10 04:29:38 -0500 (Mon, 10 Feb 2025) EllapsedTime: 485.3 seconds RetCode: 0 Status: OK CheckDir: QDNAseq.Rcheck Warnings: 0