Package: QFeatures Version: 1.17.1 Command: /home/biocbuild/R/R/bin/R CMD build --keep-empty-dirs --no-resave-data QFeatures StartedAt: 2025-01-29 01:26:09 -0000 (Wed, 29 Jan 2025) EndedAt: 2025-01-29 01:28:18 -0000 (Wed, 29 Jan 2025) EllapsedTime: 129.1 seconds RetCode: 0 Status: OK PackageFile: QFeatures_1.17.1.tar.gz PackageFileSize: 4.742 MiB