Package: QFeatures Version: 1.17.1 Command: rm -rf QFeatures.buildbin-libdir && mkdir QFeatures.buildbin-libdir && /Users/biocbuild/BBS/utils/build-universal.sh QFeatures_1.17.1.tar.gz /Library/Frameworks/R.framework/Resources/bin/R QFeatures.buildbin-libdir StartedAt: 2025-02-05 00:55:44 -0500 (Wed, 05 Feb 2025) EndedAt: 2025-02-05 00:56:29 -0500 (Wed, 05 Feb 2025) EllapsedTime: 45.1 seconds RetCode: 0 Status: OK PackageFile: QFeatures_1.17.1.tgz PackageFileSize: 4.899 MiB