Package: QFeatures Version: 1.17.1 Command: /Library/Frameworks/R.framework/Resources/bin/R CMD build --keep-empty-dirs --no-resave-data QFeatures StartedAt: 2025-02-04 17:55:26 -0500 (Tue, 04 Feb 2025) EndedAt: 2025-02-04 17:57:07 -0500 (Tue, 04 Feb 2025) EllapsedTime: 101.6 seconds RetCode: 0 Status: OK PackageFile: QFeatures_1.17.1.tar.gz PackageFileSize: 4.969 MiB