Package: QFeatures Version: 1.17.1 Command: /Library/Frameworks/R.framework/Resources/bin/R CMD check --install=check:QFeatures.install-out.txt --library=/Library/Frameworks/R.framework/Resources/library --no-vignettes --timings QFeatures_1.17.1.tar.gz StartedAt: 2025-02-04 22:35:31 -0500 (Tue, 04 Feb 2025) EndedAt: 2025-02-04 22:44:00 -0500 (Tue, 04 Feb 2025) EllapsedTime: 508.3 seconds RetCode: 0 Status: OK CheckDir: QFeatures.Rcheck Warnings: 0