Package: QFeatures Version: 1.17.1 Command: /Library/Frameworks/R.framework/Resources/bin/R CMD INSTALL QFeatures StartedAt: 2025-02-04 15:25:34 -0500 (Tue, 04 Feb 2025) EndedAt: 2025-02-04 15:26:14 -0500 (Tue, 04 Feb 2025) EllapsedTime: 39.8 seconds RetCode: 0 Status: OK