Package: QFeatures Version: 1.17.1 Command: /home/biocbuild/bbs-3.21-bioc/R/bin/R CMD build --keep-empty-dirs --no-resave-data QFeatures StartedAt: 2025-02-04 18:43:37 -0500 (Tue, 04 Feb 2025) EndedAt: 2025-02-04 18:45:01 -0500 (Tue, 04 Feb 2025) EllapsedTime: 84.1 seconds RetCode: 0 Status: OK PackageFile: QFeatures_1.17.1.tar.gz PackageFileSize: 5.437 MiB