Package: QFeatures Version: 1.17.1 Command: /home/biocbuild/bbs-3.21-bioc/R/bin/R CMD check --install=check:QFeatures.install-out.txt --library=/home/biocbuild/bbs-3.21-bioc/R/site-library --timings QFeatures_1.17.1.tar.gz StartedAt: 2025-02-05 01:42:13 -0500 (Wed, 05 Feb 2025) EndedAt: 2025-02-05 01:50:57 -0500 (Wed, 05 Feb 2025) EllapsedTime: 523.8 seconds RetCode: 0 Status: OK CheckDir: QFeatures.Rcheck Warnings: 0