Package: QFeatures Version: 1.17.1 Command: /home/biocbuild/bbs-3.21-bioc/R/bin/R CMD INSTALL QFeatures StartedAt: 2025-02-04 15:32:06 -0500 (Tue, 04 Feb 2025) EndedAt: 2025-02-04 15:32:35 -0500 (Tue, 04 Feb 2025) EllapsedTime: 29.1 seconds RetCode: 0 Status: OK