Package: QFeatures Version: 1.17.1 Command: rm -rf QFeatures.buildbin-libdir && mkdir QFeatures.buildbin-libdir && E:\biocbuild\bbs-3.21-bioc\R\bin\R.exe CMD INSTALL --build --library=QFeatures.buildbin-libdir QFeatures_1.17.1.tar.gz StartedAt: 2025-02-05 08:38:26 -0500 (Wed, 05 Feb 2025) EndedAt: 2025-02-05 08:39:35 -0500 (Wed, 05 Feb 2025) EllapsedTime: 69.4 seconds RetCode: 0 Status: OK PackageFile: QFeatures_1.17.1.zip PackageFileSize: 4.158 MiB