Package: QFeatures Version: 1.17.1 Command: chmod a+r QFeatures -R && E:\biocbuild\bbs-3.21-bioc\R\bin\R.exe CMD build --keep-empty-dirs --no-resave-data QFeatures StartedAt: 2025-02-04 20:58:02 -0500 (Tue, 04 Feb 2025) EndedAt: 2025-02-04 21:02:03 -0500 (Tue, 04 Feb 2025) EllapsedTime: 241.1 seconds RetCode: 0 Status: OK PackageFile: QFeatures_1.17.1.tar.gz PackageFileSize: 4.218 MiB