Package: QFeatures Version: 1.17.1 Command: E:\biocbuild\bbs-3.21-bioc\R\bin\R.exe CMD check --no-multiarch --install=check:QFeatures.install-out.txt --library=E:\biocbuild\bbs-3.21-bioc\R\library --no-vignettes --timings QFeatures_1.17.1.tar.gz StartedAt: 2025-02-05 04:47:20 -0500 (Wed, 05 Feb 2025) EndedAt: 2025-02-05 04:58:05 -0500 (Wed, 05 Feb 2025) EllapsedTime: 645.4 seconds RetCode: 0 Status: OK CheckDir: QFeatures.Rcheck Warnings: 0