Package: QFeatures Version: 1.17.1 Command: E:\biocbuild\bbs-3.21-bioc\R\bin\R.exe CMD INSTALL QFeatures StartedAt: 2025-02-04 15:52:18 -0500 (Tue, 04 Feb 2025) EndedAt: 2025-02-04 15:53:23 -0500 (Tue, 04 Feb 2025) EllapsedTime: 65.0 seconds RetCode: 0 Status: OK