Package: QSutils Version: 1.25.0 Command: /Library/Frameworks/R.framework/Resources/bin/R CMD check --install=check:QSutils.install-out.txt --library=/Library/Frameworks/R.framework/Resources/library --no-vignettes --timings QSutils_1.25.0.tar.gz StartedAt: 2025-02-12 20:52:56 -0500 (Wed, 12 Feb 2025) EndedAt: 2025-02-12 20:53:30 -0500 (Wed, 12 Feb 2025) EllapsedTime: 33.3 seconds RetCode: 0 Status: OK CheckDir: QSutils.Rcheck Warnings: 0