Package: QSutils Version: 1.25.0 Command: rm -rf QSutils.buildbin-libdir && mkdir QSutils.buildbin-libdir && /Users/biocbuild/BBS/utils/build-universal.sh QSutils_1.25.0.tar.gz /Library/Frameworks/R.framework/Resources/bin/R QSutils.buildbin-libdir StartedAt: 2025-02-10 01:09:51 -0500 (Mon, 10 Feb 2025) EndedAt: 2025-02-10 01:10:11 -0500 (Mon, 10 Feb 2025) EllapsedTime: 19.7 seconds RetCode: 0 Status: OK PackageFile: QSutils_1.25.0.tgz PackageFileSize: 1.432 MiB