Package: QSutils Version: 1.25.0 Command: /home/biocbuild/bbs-3.21-bioc/R/bin/R CMD build --keep-empty-dirs --no-resave-data QSutils StartedAt: 2025-02-09 18:46:35 -0500 (Sun, 09 Feb 2025) EndedAt: 2025-02-09 18:47:58 -0500 (Sun, 09 Feb 2025) EllapsedTime: 83.1 seconds RetCode: 0 Status: OK PackageFile: QSutils_1.25.0.tar.gz PackageFileSize: 1.638 MiB