Package: QSutils Version: 1.25.0 Command: /home/biocbuild/bbs-3.21-bioc/R/bin/R CMD INSTALL QSutils StartedAt: 2025-02-09 15:49:34 -0500 (Sun, 09 Feb 2025) EndedAt: 2025-02-09 15:49:46 -0500 (Sun, 09 Feb 2025) EllapsedTime: 11.4 seconds RetCode: 0 Status: OK