Package: QTLExperiment Version: 1.5.0 Maintainer: Amelia Dunstone MaintainerEmail: amelia.dunstone at svi.edu.au git_url: https://git.bioconductor.org/packages/QTLExperiment git_branch: devel git_last_commit: e89f4db git_last_commit_date: 2025-01-15 00:57:02 -0500 (Wed, 15 Jan 2025)