Package: QTLExperiment Version: 1.5.0 Command: /home/biocbuild/R/R/bin/R CMD INSTALL QTLExperiment StartedAt: 2025-01-29 19:40:09 -0000 (Wed, 29 Jan 2025) EndedAt: 2025-01-29 19:40:46 -0000 (Wed, 29 Jan 2025) EllapsedTime: 37.1 seconds RetCode: 0 Status: OK