Package: QTLExperiment Version: 1.5.0 Command: rm -rf QTLExperiment.buildbin-libdir && mkdir QTLExperiment.buildbin-libdir && /Users/biocbuild/BBS/utils/build-universal.sh QTLExperiment_1.5.0.tar.gz /Library/Frameworks/R.framework/Resources/bin/R QTLExperiment.buildbin-libdir StartedAt: 2025-02-10 01:09:54 -0500 (Mon, 10 Feb 2025) EndedAt: 2025-02-10 01:10:34 -0500 (Mon, 10 Feb 2025) EllapsedTime: 40.5 seconds RetCode: 0 Status: OK PackageFile: QTLExperiment_1.5.0.tgz PackageFileSize: 1.142 MiB