Package: QTLExperiment Version: 1.5.0 Command: /Library/Frameworks/R.framework/Resources/bin/R CMD check --install=check:QTLExperiment.install-out.txt --library=/Library/Frameworks/R.framework/Resources/library --no-vignettes --timings QTLExperiment_1.5.0.tar.gz StartedAt: 2025-02-12 22:39:06 -0500 (Wed, 12 Feb 2025) EndedAt: 2025-02-12 22:42:47 -0500 (Wed, 12 Feb 2025) EllapsedTime: 220.0 seconds RetCode: 0 Status: OK CheckDir: QTLExperiment.Rcheck Warnings: 0