Package: QTLExperiment Version: 1.5.0 Command: /Library/Frameworks/R.framework/Resources/bin/R CMD INSTALL QTLExperiment StartedAt: 2025-02-09 15:10:35 -0500 (Sun, 09 Feb 2025) EndedAt: 2025-02-09 15:11:14 -0500 (Sun, 09 Feb 2025) EllapsedTime: 39.6 seconds RetCode: 0 Status: OK